BEGIN:VCALENDAR
VERSION:2.0
PRODID:-//Ansgarschule Twist - ECPv6.9.0//NONSGML v1.0//EN
CALSCALE:GREGORIAN
METHOD:PUBLISH
X-WR-CALNAME:Ansgarschule Twist
X-ORIGINAL-URL:https://ansgarschule.de
X-WR-CALDESC:Veranstaltungen für Ansgarschule Twist
REFRESH-INTERVAL;VALUE=DURATION:PT1H
X-Robots-Tag:noindex
X-PUBLISHED-TTL:PT1H
BEGIN:VTIMEZONE
TZID:Europe/Berlin
BEGIN:DAYLIGHT
TZOFFSETFROM:+0100
TZOFFSETTO:+0200
TZNAME:CEST
DTSTART:20230326T010000
END:DAYLIGHT
BEGIN:STANDARD
TZOFFSETFROM:+0200
TZOFFSETTO:+0100
TZNAME:CET
DTSTART:20231029T010000
END:STANDARD
END:VTIMEZONE
BEGIN:VEVENT
DTSTART;TZID=Europe/Berlin:20230817T080000
DTEND;TZID=Europe/Berlin:20230817T130000
DTSTAMP:20260421T215201
CREATED:20230525T141916Z
LAST-MODIFIED:20230525T141916Z
UID:1089-1692259200-1692277200@ansgarschule.de
SUMMARY:Schuljahresbeginn
DESCRIPTION:
URL:https://ansgarschule.de/event/schuljahresbeginn/
LOCATION:Ansgarschule Twist\, Ansgarstraße 19\, Twist\, 49767\, Deutschland
END:VEVENT
BEGIN:VEVENT
DTSTART;TZID=Europe/Berlin:20230817T080000
DTEND;TZID=Europe/Berlin:20230817T130000
DTSTAMP:20260421T215201
CREATED:20230706T132544Z
LAST-MODIFIED:20230706T132544Z
UID:1118-1692259200-1692277200@ansgarschule.de
SUMMARY:Erster Schultag für die Klassen 2-4
DESCRIPTION:
URL:https://ansgarschule.de/event/erster-schultag-fuer-die-klassen-2-4-2/
LOCATION:Ansgarschule Twist\, Ansgarstraße 19\, Twist\, 49767\, Deutschland
END:VEVENT
END:VCALENDAR