BEGIN:VCALENDAR
VERSION:2.0
PRODID:-//Ansgarschule Twist - ECPv6.9.0//NONSGML v1.0//EN
CALSCALE:GREGORIAN
METHOD:PUBLISH
X-ORIGINAL-URL:https://ansgarschule.de
X-WR-CALDESC:Veranstaltungen für Ansgarschule Twist
REFRESH-INTERVAL;VALUE=DURATION:PT1H
X-Robots-Tag:noindex
X-PUBLISHED-TTL:PT1H
BEGIN:VTIMEZONE
TZID:Europe/Berlin
BEGIN:DAYLIGHT
TZOFFSETFROM:+0100
TZOFFSETTO:+0200
TZNAME:CEST
DTSTART:20230326T010000
END:DAYLIGHT
BEGIN:STANDARD
TZOFFSETFROM:+0200
TZOFFSETTO:+0100
TZNAME:CET
DTSTART:20231029T010000
END:STANDARD
END:VTIMEZONE
BEGIN:VEVENT
DTSTART;VALUE=DATE:20230828
DTEND;VALUE=DATE:20230930
DTSTAMP:20260421T203035
CREATED:20230820T134934Z
LAST-MODIFIED:20230820T134934Z
UID:1161-1693180800-1696031999@ansgarschule.de
SUMMARY:Zur Schule autofrei\, ich bin dabei!
DESCRIPTION:
URL:https://ansgarschule.de/event/zur-schule-autofrei-ich-bin-dabei/
END:VEVENT
BEGIN:VEVENT
DTSTART;TZID=Europe/Berlin:20230907T090000
DTEND;TZID=Europe/Berlin:20230907T120000
DTSTAMP:20260421T203035
CREATED:20230820T135008Z
LAST-MODIFIED:20230820T135251Z
UID:1163-1694077200-1694088000@ansgarschule.de
SUMMARY:Bücherei
DESCRIPTION:
URL:https://ansgarschule.de/event/buecherei-14/
LOCATION:Ansgarschule Twist\, Ansgarstraße 19\, Twist\, 49767\, Deutschland
END:VEVENT
BEGIN:VEVENT
DTSTART;TZID=Europe/Berlin:20230907T103000
DTEND;TZID=Europe/Berlin:20230907T120000
DTSTAMP:20260421T203035
CREATED:20230826T122029Z
LAST-MODIFIED:20230826T122029Z
UID:1222-1694082600-1694088000@ansgarschule.de
SUMMARY:Aktion "Kleine Füße" (Schulwegsicherheit) Kl. 1a/b
DESCRIPTION:
URL:https://ansgarschule.de/event/aktion-kleine-fuesse-schulwegsicherheit-kl-1a-b/
LOCATION:Ansgarschule Twist\, Ansgarstraße 19\, Twist\, 49767\, Deutschland
END:VEVENT
END:VCALENDAR