BEGIN:VCALENDAR
VERSION:2.0
PRODID:-//Ansgarschule Twist - ECPv6.9.0//NONSGML v1.0//EN
CALSCALE:GREGORIAN
METHOD:PUBLISH
X-ORIGINAL-URL:https://ansgarschule.de
X-WR-CALDESC:Veranstaltungen für Ansgarschule Twist
REFRESH-INTERVAL;VALUE=DURATION:PT1H
X-Robots-Tag:noindex
X-PUBLISHED-TTL:PT1H
BEGIN:VTIMEZONE
TZID:Europe/Berlin
BEGIN:DAYLIGHT
TZOFFSETFROM:+0100
TZOFFSETTO:+0200
TZNAME:CEST
DTSTART:20230326T010000
END:DAYLIGHT
BEGIN:STANDARD
TZOFFSETFROM:+0200
TZOFFSETTO:+0100
TZNAME:CET
DTSTART:20231029T010000
END:STANDARD
END:VTIMEZONE
BEGIN:VEVENT
DTSTART;TZID=Europe/Berlin:20231012T090000
DTEND;TZID=Europe/Berlin:20231012T130000
DTSTAMP:20260421T191346
CREATED:20230820T135512Z
LAST-MODIFIED:20230820T135512Z
UID:1171-1697101200-1697115600@ansgarschule.de
SUMMARY:Grundschulwettbewerb Jugend trainiert für Olympia Kl. 1-4
DESCRIPTION:
URL:https://ansgarschule.de/event/grundschulwettbewerb-jugend-trainiert-fuer-olympia-kl-1-4/
LOCATION:Ansgarschule Twist\, Ansgarstraße 19\, Twist\, 49767\, Deutschland
END:VEVENT
END:VCALENDAR