BEGIN:VCALENDAR
VERSION:2.0
PRODID:-//Ansgarschule Twist - ECPv6.9.0//NONSGML v1.0//EN
CALSCALE:GREGORIAN
METHOD:PUBLISH
X-WR-CALNAME:Ansgarschule Twist
X-ORIGINAL-URL:https://ansgarschule.de
X-WR-CALDESC:Veranstaltungen für Ansgarschule Twist
REFRESH-INTERVAL;VALUE=DURATION:PT1H
X-Robots-Tag:noindex
X-PUBLISHED-TTL:PT1H
BEGIN:VTIMEZONE
TZID:Europe/Berlin
BEGIN:DAYLIGHT
TZOFFSETFROM:+0100
TZOFFSETTO:+0200
TZNAME:CEST
DTSTART:20240331T010000
END:DAYLIGHT
BEGIN:STANDARD
TZOFFSETFROM:+0200
TZOFFSETTO:+0100
TZNAME:CET
DTSTART:20241027T010000
END:STANDARD
END:VTIMEZONE
BEGIN:VEVENT
DTSTART;TZID=Europe/Berlin:20240605T193000
DTEND;TZID=Europe/Berlin:20240605T203000
DTSTAMP:20260419T214704
CREATED:20240219T171417Z
LAST-MODIFIED:20240219T171417Z
UID:1386-1717615800-1717619400@ansgarschule.de
SUMMARY:2. Elternabend zukünftige 1. Klasse
DESCRIPTION:
URL:https://ansgarschule.de/event/2-elternabend-zukuenftige-1-klasse/
LOCATION:Ansgarschule Twist\, Ansgarstraße 19\, Twist\, 49767\, Deutschland
END:VEVENT
END:VCALENDAR