BEGIN:VCALENDAR
VERSION:2.0
PRODID:-//Ansgarschule Twist - ECPv6.9.0//NONSGML v1.0//EN
CALSCALE:GREGORIAN
METHOD:PUBLISH
X-ORIGINAL-URL:https://ansgarschule.de
X-WR-CALDESC:Veranstaltungen für Ansgarschule Twist
REFRESH-INTERVAL;VALUE=DURATION:PT1H
X-Robots-Tag:noindex
X-PUBLISHED-TTL:PT1H
BEGIN:VTIMEZONE
TZID:Europe/Berlin
BEGIN:DAYLIGHT
TZOFFSETFROM:+0100
TZOFFSETTO:+0200
TZNAME:CEST
DTSTART:20240331T010000
END:DAYLIGHT
BEGIN:STANDARD
TZOFFSETFROM:+0200
TZOFFSETTO:+0100
TZNAME:CET
DTSTART:20241027T010000
END:STANDARD
END:VTIMEZONE
BEGIN:VEVENT
DTSTART;TZID=Europe/Berlin:20240621T093000
DTEND;TZID=Europe/Berlin:20240621T110000
DTSTAMP:20260419T215302
CREATED:20240219T171754Z
LAST-MODIFIED:20240219T171754Z
UID:1398-1718962200-1718967600@ansgarschule.de
SUMMARY:Zeugnisausgabe\, Abschlussgottesdienst 9:30 Uhr\, Sommerforum\, Unterrichtsschluss 11:05 Uhr
DESCRIPTION:
URL:https://ansgarschule.de/event/zeugnisausgabe-abschlussgottesdienst-930-uhr-sommerforum-unterrichtsschluss-1105-uhr/
END:VEVENT
END:VCALENDAR