BEGIN:VCALENDAR
VERSION:2.0
PRODID:-//Ansgarschule Twist - ECPv6.9.0//NONSGML v1.0//EN
CALSCALE:GREGORIAN
METHOD:PUBLISH
X-ORIGINAL-URL:https://ansgarschule.de
X-WR-CALDESC:Veranstaltungen für Ansgarschule Twist
REFRESH-INTERVAL;VALUE=DURATION:PT1H
X-Robots-Tag:noindex
X-PUBLISHED-TTL:PT1H
BEGIN:VTIMEZONE
TZID:Europe/Berlin
BEGIN:DAYLIGHT
TZOFFSETFROM:+0100
TZOFFSETTO:+0200
TZNAME:CEST
DTSTART:20250330T010000
END:DAYLIGHT
BEGIN:STANDARD
TZOFFSETFROM:+0200
TZOFFSETTO:+0100
TZNAME:CET
DTSTART:20251026T010000
END:STANDARD
END:VTIMEZONE
BEGIN:VEVENT
DTSTART;TZID=Europe/Berlin:20250131T093000
DTEND;TZID=Europe/Berlin:20250131T100000
DTSTAMP:20260421T191235
CREATED:20240809T173112Z
LAST-MODIFIED:20240809T173212Z
UID:1573-1738315800-1738317600@ansgarschule.de
SUMMARY:Theaterstück von Kl. 4 für Kl. 1a/b
DESCRIPTION:
URL:https://ansgarschule.de/event/theaterstueck-von-kl-4-fuer-klasse-1a-b/
LOCATION:Ansgarschule Twist\, Ansgarstraße 19\, Twist\, 49767\, Deutschland
END:VEVENT
BEGIN:VEVENT
DTSTART;TZID=Europe/Berlin:20250131T100000
DTEND;TZID=Europe/Berlin:20250131T110000
DTSTAMP:20260421T191235
CREATED:20240809T173032Z
LAST-MODIFIED:20240809T173032Z
UID:1571-1738317600-1738321200@ansgarschule.de
SUMMARY:Ausgabe der Halbjahreszeugnisse
DESCRIPTION:
URL:https://ansgarschule.de/event/ausgabe-der-halbjahreszeugnisse-4/
LOCATION:Ansgarschule Twist\, Ansgarstraße 19\, Twist\, 49767\, Deutschland
END:VEVENT
END:VCALENDAR