BEGIN:VCALENDAR
VERSION:2.0
PRODID:-//Ansgarschule Twist - ECPv6.9.0//NONSGML v1.0//EN
CALSCALE:GREGORIAN
METHOD:PUBLISH
X-WR-CALNAME:Ansgarschule Twist
X-ORIGINAL-URL:https://ansgarschule.de
X-WR-CALDESC:Veranstaltungen für Ansgarschule Twist
REFRESH-INTERVAL;VALUE=DURATION:PT1H
X-Robots-Tag:noindex
X-PUBLISHED-TTL:PT1H
BEGIN:VTIMEZONE
TZID:Europe/Berlin
BEGIN:DAYLIGHT
TZOFFSETFROM:+0100
TZOFFSETTO:+0200
TZNAME:CEST
DTSTART:20250330T010000
END:DAYLIGHT
BEGIN:STANDARD
TZOFFSETFROM:+0200
TZOFFSETTO:+0100
TZNAME:CET
DTSTART:20251026T010000
END:STANDARD
END:VTIMEZONE
BEGIN:VEVENT
DTSTART;VALUE=DATE:20250324
DTEND;VALUE=DATE:20250325
DTSTAMP:20260421T215315
CREATED:20250111T160331Z
LAST-MODIFIED:20250111T160403Z
UID:1699-1742774400-1742860799@ansgarschule.de
SUMMARY:Schulinterne Lehrerfortbildung
DESCRIPTION:
URL:https://ansgarschule.de/event/schulinterne-lehrerfortbildung/
END:VEVENT
END:VCALENDAR