BEGIN:VCALENDAR
VERSION:2.0
PRODID:-//Ansgarschule Twist - ECPv6.9.0//NONSGML v1.0//EN
CALSCALE:GREGORIAN
METHOD:PUBLISH
X-WR-CALNAME:Ansgarschule Twist
X-ORIGINAL-URL:https://ansgarschule.de
X-WR-CALDESC:Veranstaltungen für Ansgarschule Twist
REFRESH-INTERVAL;VALUE=DURATION:PT1H
X-Robots-Tag:noindex
X-PUBLISHED-TTL:PT1H
BEGIN:VTIMEZONE
TZID:Europe/Berlin
BEGIN:DAYLIGHT
TZOFFSETFROM:+0100
TZOFFSETTO:+0200
TZNAME:CEST
DTSTART:20230326T010000
END:DAYLIGHT
BEGIN:STANDARD
TZOFFSETFROM:+0200
TZOFFSETTO:+0100
TZNAME:CET
DTSTART:20231029T010000
END:STANDARD
BEGIN:DAYLIGHT
TZOFFSETFROM:+0100
TZOFFSETTO:+0200
TZNAME:CEST
DTSTART:20240331T010000
END:DAYLIGHT
BEGIN:STANDARD
TZOFFSETFROM:+0200
TZOFFSETTO:+0100
TZNAME:CET
DTSTART:20241027T010000
END:STANDARD
END:VTIMEZONE
BEGIN:VEVENT
DTSTART;TZID=Europe/Berlin:20231204T080000
DTEND;TZID=Europe/Berlin:20231204T120000
DTSTAMP:20260421T143913
CREATED:20230825T152509Z
LAST-MODIFIED:20230825T152509Z
UID:1192-1701676800-1701691200@ansgarschule.de
SUMMARY:Erste-Hilfe-Kurs DLRG 4a/4b
DESCRIPTION:
URL:https://ansgarschule.de/event/erste-hilfe-kurs-dlrg-4a-4b/
LOCATION:Ansgarschule Twist\, Ansgarstraße 19\, Twist\, 49767\, Deutschland
END:VEVENT
BEGIN:VEVENT
DTSTART;TZID=Europe/Berlin:20231204T093000
DTEND;TZID=Europe/Berlin:20231204T100000
DTSTAMP:20260421T143913
CREATED:20230825T153154Z
LAST-MODIFIED:20230825T153154Z
UID:1210-1701682200-1701684000@ansgarschule.de
SUMMARY:Adventsbesinnung
DESCRIPTION:
URL:https://ansgarschule.de/event/adventsbesinnung/
LOCATION:Ansgarschule Twist\, Ansgarstraße 19\, Twist\, 49767\, Deutschland
END:VEVENT
BEGIN:VEVENT
DTSTART;TZID=Europe/Berlin:20231207T090000
DTEND;TZID=Europe/Berlin:20231207T120000
DTSTAMP:20260421T143913
CREATED:20230825T152255Z
LAST-MODIFIED:20230825T152255Z
UID:1186-1701939600-1701950400@ansgarschule.de
SUMMARY:Bücherei
DESCRIPTION:
URL:https://ansgarschule.de/event/buecherei-17/
LOCATION:Ansgarschule Twist\, Ansgarstraße 19\, Twist\, 49767\, Deutschland
END:VEVENT
BEGIN:VEVENT
DTSTART;TZID=Europe/Berlin:20231208T080000
DTEND;TZID=Europe/Berlin:20231208T130000
DTSTAMP:20260421T143913
CREATED:20230825T153326Z
LAST-MODIFIED:20230825T153326Z
UID:1216-1702022400-1702040400@ansgarschule.de
SUMMARY:Projekttag Nikolaus/Weihnachten
DESCRIPTION:
URL:https://ansgarschule.de/event/projekttag-nikolaus-weihnachten/
LOCATION:Ansgarschule Twist\, Ansgarstraße 19\, Twist\, 49767\, Deutschland
END:VEVENT
BEGIN:VEVENT
DTSTART;TZID=Europe/Berlin:20231211T093000
DTEND;TZID=Europe/Berlin:20231211T100000
DTSTAMP:20260421T143913
CREATED:20230825T153215Z
LAST-MODIFIED:20230825T153215Z
UID:1212-1702287000-1702288800@ansgarschule.de
SUMMARY:Adventsbesinnung
DESCRIPTION:
URL:https://ansgarschule.de/event/adventsbesinnung-2/
LOCATION:Ansgarschule Twist\, Ansgarstraße 19\, Twist\, 49767\, Deutschland
END:VEVENT
BEGIN:VEVENT
DTSTART;TZID=Europe/Berlin:20231218T080000
DTEND;TZID=Europe/Berlin:20231218T120000
DTSTAMP:20260421T143913
CREATED:20240104T121931Z
LAST-MODIFIED:20240104T121931Z
UID:1290-1702886400-1702900800@ansgarschule.de
SUMMARY:Tag des Handwerks (Kl. 2a)
DESCRIPTION:
URL:https://ansgarschule.de/event/tag-des-handwerks-kl-2a/
LOCATION:Ansgarschule Twist\, Ansgarstraße 19\, Twist\, 49767\, Deutschland
END:VEVENT
BEGIN:VEVENT
DTSTART;TZID=Europe/Berlin:20231218T093000
DTEND;TZID=Europe/Berlin:20231218T100000
DTSTAMP:20260421T143913
CREATED:20230825T153243Z
LAST-MODIFIED:20230825T153243Z
UID:1214-1702891800-1702893600@ansgarschule.de
SUMMARY:Adventsbesinnung
DESCRIPTION:
URL:https://ansgarschule.de/event/adventsbesinnung-3/
LOCATION:Ansgarschule Twist\, Ansgarstraße 19\, Twist\, 49767\, Deutschland
END:VEVENT
BEGIN:VEVENT
DTSTART;TZID=Europe/Berlin:20231219T080000
DTEND;TZID=Europe/Berlin:20231219T120000
DTSTAMP:20260421T143913
CREATED:20240104T122046Z
LAST-MODIFIED:20240104T122046Z
UID:1292-1702972800-1702987200@ansgarschule.de
SUMMARY:Tag des Handwerks (Kl. 2b)
DESCRIPTION:
URL:https://ansgarschule.de/event/tag-des-handwerks-kl-2b/
LOCATION:Ansgarschule Twist\, Ansgarstraße 19\, Twist\, 49767\, Deutschland
END:VEVENT
BEGIN:VEVENT
DTSTART;TZID=Europe/Berlin:20231222T093000
DTEND;TZID=Europe/Berlin:20231222T100000
DTSTAMP:20260421T143913
CREATED:20230825T153358Z
LAST-MODIFIED:20230825T153358Z
UID:1218-1703237400-1703239200@ansgarschule.de
SUMMARY:Winterforum
DESCRIPTION:
URL:https://ansgarschule.de/event/winterforum/
LOCATION:Ansgarschule Twist\, Ansgarstraße 19\, Twist\, 49767\, Deutschland
END:VEVENT
BEGIN:VEVENT
DTSTART;VALUE=DATE:20231227
DTEND;VALUE=DATE:20240106
DTSTAMP:20260421T143913
CREATED:20230825T153428Z
LAST-MODIFIED:20230825T153428Z
UID:1220-1703635200-1704499199@ansgarschule.de
SUMMARY:Weihnachtsferien
DESCRIPTION:
URL:https://ansgarschule.de/event/weihnachtsferien-3/
END:VEVENT
END:VCALENDAR