BEGIN:VCALENDAR
VERSION:2.0
PRODID:-//Ansgarschule Twist - ECPv6.9.0//NONSGML v1.0//EN
CALSCALE:GREGORIAN
METHOD:PUBLISH
X-ORIGINAL-URL:https://ansgarschule.de
X-WR-CALDESC:Veranstaltungen für Ansgarschule Twist
REFRESH-INTERVAL;VALUE=DURATION:PT1H
X-Robots-Tag:noindex
X-PUBLISHED-TTL:PT1H
BEGIN:VTIMEZONE
TZID:Europe/Berlin
BEGIN:DAYLIGHT
TZOFFSETFROM:+0100
TZOFFSETTO:+0200
TZNAME:CEST
DTSTART:20240331T010000
END:DAYLIGHT
BEGIN:STANDARD
TZOFFSETFROM:+0200
TZOFFSETTO:+0100
TZNAME:CET
DTSTART:20241027T010000
END:STANDARD
END:VTIMEZONE
BEGIN:VEVENT
DTSTART;VALUE=DATE:20240318
DTEND;VALUE=DATE:20240402
DTSTAMP:20260419T230110
CREATED:20240129T160529Z
LAST-MODIFIED:20240129T160529Z
UID:1339-1710720000-1712015999@ansgarschule.de
SUMMARY:Osterferien
DESCRIPTION:
URL:https://ansgarschule.de/event/osterferien-2/
END:VEVENT
BEGIN:VEVENT
DTSTART;TZID=Europe/Berlin:20240404T080000
DTEND;TZID=Europe/Berlin:20240404T120000
DTSTAMP:20260419T230110
CREATED:20240219T170605Z
LAST-MODIFIED:20240219T170605Z
UID:1360-1712217600-1712232000@ansgarschule.de
SUMMARY:Bücherei
DESCRIPTION:
URL:https://ansgarschule.de/event/buecherei-21/
LOCATION:Ansgarschule Twist\, Ansgarstraße 19\, Twist\, 49767\, Deutschland
END:VEVENT
BEGIN:VEVENT
DTSTART;TZID=Europe/Berlin:20240404T170000
DTEND;TZID=Europe/Berlin:20240404T183000
DTSTAMP:20260419T230110
CREATED:20240219T170700Z
LAST-MODIFIED:20240219T170700Z
UID:1362-1712250000-1712255400@ansgarschule.de
SUMMARY:Schulvorstandssitzung / Gesamtkonferenz
DESCRIPTION:
URL:https://ansgarschule.de/event/schulvorstandssitzung-gesamtkonferenz/
LOCATION:Ansgarschule Twist\, Ansgarstraße 19\, Twist\, 49767\, Deutschland
END:VEVENT
BEGIN:VEVENT
DTSTART;TZID=Europe/Berlin:20240410T200000
DTEND;TZID=Europe/Berlin:20240410T213000
DTSTAMP:20260419T230110
CREATED:20240129T155906Z
LAST-MODIFIED:20240229T105339Z
UID:1330-1712779200-1712784600@ansgarschule.de
SUMMARY:Sitzung des Fördervereins
DESCRIPTION:
URL:https://ansgarschule.de/event/sitzung-des-foerderverein/
END:VEVENT
BEGIN:VEVENT
DTSTART;VALUE=DATE:20240415
DTEND;VALUE=DATE:20240427
DTSTAMP:20260419T230110
CREATED:20240415T131939Z
LAST-MODIFIED:20240415T131939Z
UID:1426-1713139200-1714175999@ansgarschule.de
SUMMARY:Zeitungsprojekt Kl. 4
DESCRIPTION:
URL:https://ansgarschule.de/event/zeitungsprojekt-kl-4/
END:VEVENT
BEGIN:VEVENT
DTSTART;VALUE=DATE:20240415
DTEND;VALUE=DATE:20240504
DTSTAMP:20260419T230110
CREATED:20240415T132008Z
LAST-MODIFIED:20240415T132008Z
UID:1428-1713139200-1714780799@ansgarschule.de
SUMMARY:Fahrradparcours
DESCRIPTION:
URL:https://ansgarschule.de/event/fahrradparcours-2/
END:VEVENT
BEGIN:VEVENT
DTSTART;TZID=Europe/Berlin:20240418T150000
DTEND;TZID=Europe/Berlin:20240418T163000
DTSTAMP:20260419T230110
CREATED:20240219T170734Z
LAST-MODIFIED:20240219T170734Z
UID:1364-1713452400-1713457800@ansgarschule.de
SUMMARY:Kennenlerntag zukünftige 1. Klasse
DESCRIPTION:
URL:https://ansgarschule.de/event/kennenlerntag-zukuenftige-1-klasse/
LOCATION:Ansgarschule Twist\, Ansgarstraße 19\, Twist\, 49767\, Deutschland
END:VEVENT
BEGIN:VEVENT
DTSTART;TZID=Europe/Berlin:20240422T080000
DTEND;TZID=Europe/Berlin:20240422T130000
DTSTAMP:20260419T230110
CREATED:20240219T170834Z
LAST-MODIFIED:20240219T170834Z
UID:1366-1713772800-1713790800@ansgarschule.de
SUMMARY:Schulinterne Lehrerfortbildung (Notbetreuung)
DESCRIPTION:
URL:https://ansgarschule.de/event/schulinterne-lehrerfortbildung-notbetreuung/
LOCATION:Ansgarschule Twist\, Ansgarstraße 19\, Twist\, 49767\, Deutschland
END:VEVENT
BEGIN:VEVENT
DTSTART;TZID=Europe/Berlin:20240425T080000
DTEND;TZID=Europe/Berlin:20240425T120000
DTSTAMP:20260419T230110
CREATED:20240415T132112Z
LAST-MODIFIED:20240415T132112Z
UID:1430-1714032000-1714046400@ansgarschule.de
SUMMARY:Ganz schön blöd Kl. 4
DESCRIPTION:
URL:https://ansgarschule.de/event/ganz-schoen-bloed-kl-4/
END:VEVENT
END:VCALENDAR