BEGIN:VCALENDAR
VERSION:2.0
PRODID:-//Ansgarschule Twist - ECPv6.9.0//NONSGML v1.0//EN
CALSCALE:GREGORIAN
METHOD:PUBLISH
X-WR-CALNAME:Ansgarschule Twist
X-ORIGINAL-URL:https://ansgarschule.de
X-WR-CALDESC:Veranstaltungen für Ansgarschule Twist
REFRESH-INTERVAL;VALUE=DURATION:PT1H
X-Robots-Tag:noindex
X-PUBLISHED-TTL:PT1H
BEGIN:VTIMEZONE
TZID:Europe/Berlin
BEGIN:DAYLIGHT
TZOFFSETFROM:+0100
TZOFFSETTO:+0200
TZNAME:CEST
DTSTART:20240331T010000
END:DAYLIGHT
BEGIN:STANDARD
TZOFFSETFROM:+0200
TZOFFSETTO:+0100
TZNAME:CET
DTSTART:20241027T010000
END:STANDARD
END:VTIMEZONE
BEGIN:VEVENT
DTSTART;VALUE=DATE:20240415
DTEND;VALUE=DATE:20240504
DTSTAMP:20260419T214800
CREATED:20240415T132008Z
LAST-MODIFIED:20240415T132008Z
UID:1428-1713139200-1714780799@ansgarschule.de
SUMMARY:Fahrradparcours
DESCRIPTION:
URL:https://ansgarschule.de/event/fahrradparcours-2/
END:VEVENT
BEGIN:VEVENT
DTSTART;TZID=Europe/Berlin:20240502T080000
DTEND;TZID=Europe/Berlin:20240502T103000
DTSTAMP:20260419T214800
CREATED:20240229T105446Z
LAST-MODIFIED:20240427T164614Z
UID:1402-1714636800-1714645800@ansgarschule.de
SUMMARY:Radfahrprüfung Kl. 4a/b
DESCRIPTION:
URL:https://ansgarschule.de/event/radfahrpruefung-kl-4a-b/
END:VEVENT
BEGIN:VEVENT
DTSTART;TZID=Europe/Berlin:20240502T080000
DTEND;TZID=Europe/Berlin:20240502T120000
DTSTAMP:20260419T214800
CREATED:20240219T170915Z
LAST-MODIFIED:20240219T170915Z
UID:1368-1714636800-1714651200@ansgarschule.de
SUMMARY:Bücherei
DESCRIPTION:
URL:https://ansgarschule.de/event/buecherei-22/
LOCATION:Ansgarschule Twist\, Ansgarstraße 19\, Twist\, 49767\, Deutschland
END:VEVENT
BEGIN:VEVENT
DTSTART;TZID=Europe/Berlin:20240503T080000
DTEND;TZID=Europe/Berlin:20240503T120000
DTSTAMP:20260419T214800
CREATED:20240219T170953Z
LAST-MODIFIED:20240219T170953Z
UID:1370-1714723200-1714737600@ansgarschule.de
SUMMARY:Schafstall Kl. 1a/1b/Koop
DESCRIPTION:
URL:https://ansgarschule.de/event/schafstall-kl-1a-1b-koop/
END:VEVENT
BEGIN:VEVENT
DTSTART;TZID=Europe/Berlin:20240503T080000
DTEND;TZID=Europe/Berlin:20240503T120000
DTSTAMP:20260419T214800
CREATED:20240427T164425Z
LAST-MODIFIED:20240427T164425Z
UID:1434-1714723200-1714737600@ansgarschule.de
SUMMARY:Fußballturnier Fußball-AG
DESCRIPTION:
URL:https://ansgarschule.de/event/fussballturnier-fussball-ag/
END:VEVENT
BEGIN:VEVENT
DTSTART;TZID=Europe/Berlin:20240506T080000
DTEND;TZID=Europe/Berlin:20240506T130000
DTSTAMP:20260419T214800
CREATED:20240219T171025Z
LAST-MODIFIED:20240427T165015Z
UID:1372-1714982400-1715000400@ansgarschule.de
SUMMARY:Naturparkführungen Kl. 1a\, 2b\, 4a\, 4b
DESCRIPTION:
URL:https://ansgarschule.de/event/naturparkfuehrungen/
END:VEVENT
BEGIN:VEVENT
DTSTART;TZID=Europe/Berlin:20240508T080000
DTEND;TZID=Europe/Berlin:20240508T130000
DTSTAMP:20260419T214800
CREATED:20240219T171045Z
LAST-MODIFIED:20240427T165041Z
UID:1374-1715155200-1715173200@ansgarschule.de
SUMMARY:Naturparkführungen Kl. 1b\, 2a\, 3
DESCRIPTION:
URL:https://ansgarschule.de/event/naturparkfuehrungen-2/
END:VEVENT
BEGIN:VEVENT
DTSTART;VALUE=DATE:20240509
DTEND;VALUE=DATE:20240511
DTSTAMP:20260419T214800
CREATED:20240219T171113Z
LAST-MODIFIED:20240219T171113Z
UID:1376-1715212800-1715385599@ansgarschule.de
SUMMARY:Christi Himmelfahrt (unterrichtsfrei)
DESCRIPTION:
URL:https://ansgarschule.de/event/christi-himmelfahrt-unterrichtsfrei-3/
END:VEVENT
BEGIN:VEVENT
DTSTART;TZID=Europe/Berlin:20240514T103000
DTEND;TZID=Europe/Berlin:20240514T110000
DTSTAMP:20260419T214800
CREATED:20240427T164557Z
LAST-MODIFIED:20240427T164557Z
UID:1436-1715682600-1715684400@ansgarschule.de
SUMMARY:Vorlesen im Kindergarten Kl. 1a
DESCRIPTION:
URL:https://ansgarschule.de/event/vorlesen-im-kindergarten-kl-1a/
END:VEVENT
BEGIN:VEVENT
DTSTART;TZID=Europe/Berlin:20240517T085000
DTEND;TZID=Europe/Berlin:20240517T090000
DTSTAMP:20260419T214800
CREATED:20240219T171203Z
LAST-MODIFIED:20240219T171203Z
UID:1378-1715935800-1715936400@ansgarschule.de
SUMMARY:Notfallübung
DESCRIPTION:
URL:https://ansgarschule.de/event/notfalluebung-2/
LOCATION:Ansgarschule Twist\, Ansgarstraße 19\, Twist\, 49767\, Deutschland
END:VEVENT
BEGIN:VEVENT
DTSTART;VALUE=DATE:20240520
DTEND;VALUE=DATE:20240522
DTSTAMP:20260419T214800
CREATED:20240219T171231Z
LAST-MODIFIED:20240219T171231Z
UID:1380-1716163200-1716335999@ansgarschule.de
SUMMARY:Pfingsten (unterrichtsfrei)
DESCRIPTION:
URL:https://ansgarschule.de/event/pfingsten-unterrichtsfrei-3/
END:VEVENT
BEGIN:VEVENT
DTSTART;VALUE=DATE:20240522
DTEND;VALUE=DATE:20240525
DTSTAMP:20260419T214800
CREATED:20240219T171308Z
LAST-MODIFIED:20240427T164932Z
UID:1382-1716336000-1716595199@ansgarschule.de
SUMMARY:Klassenfahrt Kl. 4a/b (Jugendherberge Meppen)
DESCRIPTION:
URL:https://ansgarschule.de/event/klassenfahrt-kl-4-jugendherberge-meppen/
END:VEVENT
BEGIN:VEVENT
DTSTART;TZID=Europe/Berlin:20240528T103000
DTEND;TZID=Europe/Berlin:20240528T110000
DTSTAMP:20260419T214800
CREATED:20240427T164714Z
LAST-MODIFIED:20240427T164714Z
UID:1439-1716892200-1716894000@ansgarschule.de
SUMMARY:Vorlesen im Kindergarten Kl. 1b
DESCRIPTION:
URL:https://ansgarschule.de/event/vorlesen-im-kindergarten-kl-1b/
END:VEVENT
BEGIN:VEVENT
DTSTART;TZID=Europe/Berlin:20240529T140000
DTEND;TZID=Europe/Berlin:20240529T170000
DTSTAMP:20260419T214800
CREATED:20240219T171343Z
LAST-MODIFIED:20240219T171343Z
UID:1384-1716991200-1717002000@ansgarschule.de
SUMMARY:SchiLf Veenpark mit Rezertifizierung Naturparkschule
DESCRIPTION:
URL:https://ansgarschule.de/event/schilf-veenpark-mit-rezertifizierung-naturparkschule/
END:VEVENT
BEGIN:VEVENT
DTSTART;TZID=Europe/Berlin:20240530T080000
DTEND;TZID=Europe/Berlin:20240530T120000
DTSTAMP:20260419T214800
CREATED:20240427T164812Z
LAST-MODIFIED:20240427T164844Z
UID:1441-1717056000-1717070400@ansgarschule.de
SUMMARY:Sicher im Netz Kl. 4a/b
DESCRIPTION:
URL:https://ansgarschule.de/event/sicher-im-netz-kl-4a-b/
LOCATION:Ansgarschule Twist\, Ansgarstraße 19\, Twist\, 49767\, Deutschland
END:VEVENT
END:VCALENDAR