BEGIN:VCALENDAR
VERSION:2.0
PRODID:-//Ansgarschule Twist - ECPv6.9.0//NONSGML v1.0//EN
CALSCALE:GREGORIAN
METHOD:PUBLISH
X-WR-CALNAME:Ansgarschule Twist
X-ORIGINAL-URL:https://ansgarschule.de
X-WR-CALDESC:Veranstaltungen für Ansgarschule Twist
REFRESH-INTERVAL;VALUE=DURATION:PT1H
X-Robots-Tag:noindex
X-PUBLISHED-TTL:PT1H
BEGIN:VTIMEZONE
TZID:Europe/Berlin
BEGIN:DAYLIGHT
TZOFFSETFROM:+0100
TZOFFSETTO:+0200
TZNAME:CEST
DTSTART:20240331T010000
END:DAYLIGHT
BEGIN:STANDARD
TZOFFSETFROM:+0200
TZOFFSETTO:+0100
TZNAME:CET
DTSTART:20241027T010000
END:STANDARD
END:VTIMEZONE
BEGIN:VEVENT
DTSTART;TZID=Europe/Berlin:20240903T080000
DTEND;TZID=Europe/Berlin:20240903T120000
DTSTAMP:20260421T104233
CREATED:20240803T111857Z
LAST-MODIFIED:20240803T111857Z
UID:1512-1725350400-1725364800@ansgarschule.de
SUMMARY:Bücherei
DESCRIPTION:
URL:https://ansgarschule.de/event/buecherei-24/
LOCATION:Ansgarschule Twist\, Ansgarstraße 19\, Twist\, 49767\, Deutschland
END:VEVENT
BEGIN:VEVENT
DTSTART;TZID=Europe/Berlin:20240903T100000
DTEND;TZID=Europe/Berlin:20240903T120000
DTSTAMP:20260421T104233
CREATED:20240803T111833Z
LAST-MODIFIED:20240803T111833Z
UID:1510-1725357600-1725364800@ansgarschule.de
SUMMARY:Sicher im Netz mit H. Bruns Kl. 4
DESCRIPTION:
URL:https://ansgarschule.de/event/sicher-im-netz-mit-h-bruns-kl-4/
LOCATION:Ansgarschule Twist\, Ansgarstraße 19\, Twist\, 49767\, Deutschland
END:VEVENT
BEGIN:VEVENT
DTSTART;TZID=Europe/Berlin:20240905T190000
DTEND;TZID=Europe/Berlin:20240905T203000
DTSTAMP:20260421T104233
CREATED:20240803T111921Z
LAST-MODIFIED:20240803T111921Z
UID:1514-1725562800-1725568200@ansgarschule.de
SUMMARY:Schulelternratssitzung
DESCRIPTION:
URL:https://ansgarschule.de/event/schulelternratssitzung-5/
LOCATION:Ansgarschule Twist\, Ansgarstraße 19\, Twist\, 49767\, Deutschland
END:VEVENT
BEGIN:VEVENT
DTSTART;TZID=Europe/Berlin:20240917T193000
DTEND;TZID=Europe/Berlin:20240917T210000
DTSTAMP:20260421T104233
CREATED:20240803T111956Z
LAST-MODIFIED:20240803T111956Z
UID:1516-1726601400-1726606800@ansgarschule.de
SUMMARY:Elternabend Schulverbund Übergang 4/5
DESCRIPTION:
URL:https://ansgarschule.de/event/elternabend-schulverbund-uebergang-4-5/
END:VEVENT
BEGIN:VEVENT
DTSTART;TZID=Europe/Berlin:20240926T080000
DTEND;TZID=Europe/Berlin:20240926T120000
DTSTAMP:20260421T104233
CREATED:20240803T112034Z
LAST-MODIFIED:20240803T112034Z
UID:1518-1727337600-1727352000@ansgarschule.de
SUMMARY:Erste-Hilfe-Kurs DLRG Kl. 2a/b
DESCRIPTION:
URL:https://ansgarschule.de/event/erste-hilfe-kurs-dlrg-kl-2a-b/
LOCATION:Ansgarschule Twist\, Ansgarstraße 19\, Twist\, 49767\, Deutschland
END:VEVENT
BEGIN:VEVENT
DTSTART;TZID=Europe/Berlin:20240927T080000
DTEND;TZID=Europe/Berlin:20240927T100000
DTSTAMP:20260421T104233
CREATED:20240803T112056Z
LAST-MODIFIED:20240803T112056Z
UID:1520-1727424000-1727431200@ansgarschule.de
SUMMARY:Erste-Hilfe-Kurs DLRG Kl. 4
DESCRIPTION:
URL:https://ansgarschule.de/event/erste-hilfe-kurs-dlrg-kl-4/
LOCATION:Ansgarschule Twist\, Ansgarstraße 19\, Twist\, 49767\, Deutschland
END:VEVENT
END:VCALENDAR