BEGIN:VCALENDAR
VERSION:2.0
PRODID:-//Ansgarschule Twist - ECPv6.9.0//NONSGML v1.0//EN
CALSCALE:GREGORIAN
METHOD:PUBLISH
X-WR-CALNAME:Ansgarschule Twist
X-ORIGINAL-URL:https://ansgarschule.de
X-WR-CALDESC:Veranstaltungen für Ansgarschule Twist
REFRESH-INTERVAL;VALUE=DURATION:PT1H
X-Robots-Tag:noindex
X-PUBLISHED-TTL:PT1H
BEGIN:VTIMEZONE
TZID:Europe/Berlin
BEGIN:DAYLIGHT
TZOFFSETFROM:+0100
TZOFFSETTO:+0200
TZNAME:CEST
DTSTART:20240331T010000
END:DAYLIGHT
BEGIN:STANDARD
TZOFFSETFROM:+0200
TZOFFSETTO:+0100
TZNAME:CET
DTSTART:20241027T010000
END:STANDARD
END:VTIMEZONE
BEGIN:VEVENT
DTSTART;TZID=Europe/Berlin:20241107T080000
DTEND;TZID=Europe/Berlin:20241107T120000
DTSTAMP:20260421T142741
CREATED:20240809T171932Z
LAST-MODIFIED:20240809T171932Z
UID:1537-1730966400-1730980800@ansgarschule.de
SUMMARY:Bücherei
DESCRIPTION:
URL:https://ansgarschule.de/event/buecherei-25/
LOCATION:Ansgarschule Twist\, Ansgarstraße 19\, Twist\, 49767\, Deutschland
END:VEVENT
BEGIN:VEVENT
DTSTART;TZID=Europe/Berlin:20241108T100000
DTEND;TZID=Europe/Berlin:20241108T120000
DTSTAMP:20260421T142741
CREATED:20240809T171957Z
LAST-MODIFIED:20240809T171957Z
UID:1539-1731060000-1731067200@ansgarschule.de
SUMMARY:Kinderturntag
DESCRIPTION:
URL:https://ansgarschule.de/event/kinderturntag/
END:VEVENT
BEGIN:VEVENT
DTSTART;VALUE=DATE:20241111
DTEND;VALUE=DATE:20241113
DTSTAMP:20260421T142741
CREATED:20240809T172104Z
LAST-MODIFIED:20240809T172104Z
UID:1541-1731283200-1731455999@ansgarschule.de
SUMMARY:St. Martin Abgabe
DESCRIPTION:
URL:https://ansgarschule.de/event/st-martin-abgabe-3/
LOCATION:Ansgarschule Twist\, Ansgarstraße 19\, Twist\, 49767\, Deutschland
END:VEVENT
BEGIN:VEVENT
DTSTART;TZID=Europe/Berlin:20241111T090000
DTEND;TZID=Europe/Berlin:20241111T110000
DTSTAMP:20260421T142741
CREATED:20240924T144524Z
LAST-MODIFIED:20240924T144524Z
UID:1598-1731315600-1731322800@ansgarschule.de
SUMMARY:Zahnprophylaxe Kl. 1-4
DESCRIPTION:
URL:https://ansgarschule.de/event/zahnprophylaxe-kl-1-4/
LOCATION:Ansgarschule Twist\, Ansgarstraße 19\, Twist\, 49767\, Deutschland
END:VEVENT
BEGIN:VEVENT
DTSTART;TZID=Europe/Berlin:20241113T093000
DTEND;TZID=Europe/Berlin:20241113T100000
DTSTAMP:20260421T142741
CREATED:20240809T172149Z
LAST-MODIFIED:20240809T172149Z
UID:1543-1731490200-1731492000@ansgarschule.de
SUMMARY:Abgabe Süßigkeiten/Schultaschen an Twister Tafel
DESCRIPTION:
URL:https://ansgarschule.de/event/abgabe-suessigkeiten-schultaschen-an-twister-tafel/
END:VEVENT
BEGIN:VEVENT
DTSTART;TZID=Europe/Berlin:20241114T140000
DTEND;TZID=Europe/Berlin:20241114T180000
DTSTAMP:20260421T142741
CREATED:20240809T172314Z
LAST-MODIFIED:20240809T172451Z
UID:1548-1731592800-1731607200@ansgarschule.de
SUMMARY:Elternsprechtage Kl. 1-3
DESCRIPTION:
URL:https://ansgarschule.de/event/elternsprechtage-kl-1-3-2/
LOCATION:Ansgarschule Twist\, Ansgarstraße 19\, Twist\, 49767\, Deutschland
END:VEVENT
BEGIN:VEVENT
DTSTART;TZID=Europe/Berlin:20241114T150000
DTEND;TZID=Europe/Berlin:20241114T180000
DTSTAMP:20260421T142741
CREATED:20240809T172415Z
LAST-MODIFIED:20240809T172415Z
UID:1550-1731596400-1731607200@ansgarschule.de
SUMMARY:Beratungsgespräche Kl. 4
DESCRIPTION:
URL:https://ansgarschule.de/event/beratungsgespraeche-kl-4-2/
LOCATION:Ansgarschule Twist\, Ansgarstraße 19\, Twist\, 49767\, Deutschland
END:VEVENT
BEGIN:VEVENT
DTSTART;TZID=Europe/Berlin:20241115T080000
DTEND;TZID=Europe/Berlin:20241115T120000
DTSTAMP:20260421T142741
CREATED:20240809T172225Z
LAST-MODIFIED:20240809T172225Z
UID:1546-1731657600-1731672000@ansgarschule.de
SUMMARY:Vorlesetag
DESCRIPTION:
URL:https://ansgarschule.de/event/vorlesetag-3/
LOCATION:Ansgarschule Twist\, Ansgarstraße 19\, Twist\, 49767\, Deutschland
END:VEVENT
BEGIN:VEVENT
DTSTART;TZID=Europe/Berlin:20241120T140000
DTEND;TZID=Europe/Berlin:20241120T160000
DTSTAMP:20260421T142741
CREATED:20240809T172528Z
LAST-MODIFIED:20240809T172528Z
UID:1555-1732111200-1732118400@ansgarschule.de
SUMMARY:Schulleiter-Dienstbesprechung mit der Gemeinde
DESCRIPTION:
URL:https://ansgarschule.de/event/schulleiter-dienstbesprechung-mit-der-gemeinde/
END:VEVENT
BEGIN:VEVENT
DTSTART;TZID=Europe/Berlin:20241121T150000
DTEND;TZID=Europe/Berlin:20241121T180000
DTSTAMP:20260421T142741
CREATED:20240809T172435Z
LAST-MODIFIED:20240809T172435Z
UID:1552-1732201200-1732212000@ansgarschule.de
SUMMARY:Beratungsgespräche Kl. 4
DESCRIPTION:
URL:https://ansgarschule.de/event/beratungsgespraeche-kl-4-3/
LOCATION:Ansgarschule Twist\, Ansgarstraße 19\, Twist\, 49767\, Deutschland
END:VEVENT
END:VCALENDAR