BEGIN:VCALENDAR
VERSION:2.0
PRODID:-//Ansgarschule Twist - ECPv6.9.0//NONSGML v1.0//EN
CALSCALE:GREGORIAN
METHOD:PUBLISH
X-WR-CALNAME:Ansgarschule Twist
X-ORIGINAL-URL:https://ansgarschule.de
X-WR-CALDESC:Veranstaltungen für Ansgarschule Twist
REFRESH-INTERVAL;VALUE=DURATION:PT1H
X-Robots-Tag:noindex
X-PUBLISHED-TTL:PT1H
BEGIN:VTIMEZONE
TZID:Europe/Berlin
BEGIN:DAYLIGHT
TZOFFSETFROM:+0100
TZOFFSETTO:+0200
TZNAME:CEST
DTSTART:20240331T010000
END:DAYLIGHT
BEGIN:STANDARD
TZOFFSETFROM:+0200
TZOFFSETTO:+0100
TZNAME:CET
DTSTART:20241027T010000
END:STANDARD
BEGIN:DAYLIGHT
TZOFFSETFROM:+0100
TZOFFSETTO:+0200
TZNAME:CEST
DTSTART:20250330T010000
END:DAYLIGHT
BEGIN:STANDARD
TZOFFSETFROM:+0200
TZOFFSETTO:+0100
TZNAME:CET
DTSTART:20251026T010000
END:STANDARD
END:VTIMEZONE
BEGIN:VEVENT
DTSTART;TZID=Europe/Berlin:20241205T080000
DTEND;TZID=Europe/Berlin:20241205T120000
DTSTAMP:20260421T160648
CREATED:20240809T172556Z
LAST-MODIFIED:20240809T172556Z
UID:1557-1733385600-1733400000@ansgarschule.de
SUMMARY:Bücherei
DESCRIPTION:
URL:https://ansgarschule.de/event/buecherei-26/
LOCATION:Ansgarschule Twist\, Ansgarstraße 19\, Twist\, 49767\, Deutschland
END:VEVENT
BEGIN:VEVENT
DTSTART;TZID=Europe/Berlin:20241206T080000
DTEND;TZID=Europe/Berlin:20241206T120000
DTSTAMP:20260421T160648
CREATED:20240924T144558Z
LAST-MODIFIED:20240924T144558Z
UID:1600-1733472000-1733486400@ansgarschule.de
SUMMARY:Kochen mit den Landfrauen Kl. 3a
DESCRIPTION:
URL:https://ansgarschule.de/event/kochen-mit-den-landfrauen-kl-3a-2/
LOCATION:Ansgarschule Twist\, Ansgarstraße 19\, Twist\, 49767\, Deutschland
END:VEVENT
BEGIN:VEVENT
DTSTART;TZID=Europe/Berlin:20241206T090000
DTEND;TZID=Europe/Berlin:20241206T110000
DTSTAMP:20260421T160648
CREATED:20240809T172627Z
LAST-MODIFIED:20240809T172627Z
UID:1559-1733475600-1733482800@ansgarschule.de
SUMMARY:Nikolaus
DESCRIPTION:
URL:https://ansgarschule.de/event/nikolaus-2/
LOCATION:Ansgarschule Twist\, Ansgarstraße 19\, Twist\, 49767\, Deutschland
END:VEVENT
BEGIN:VEVENT
DTSTART;TZID=Europe/Berlin:20241213T080000
DTEND;TZID=Europe/Berlin:20241213T120000
DTSTAMP:20260421T160648
CREATED:20240826T133318Z
LAST-MODIFIED:20240826T133318Z
UID:1588-1734076800-1734091200@ansgarschule.de
SUMMARY:Kochen mit den Landfrauen Kl. 3b
DESCRIPTION:
URL:https://ansgarschule.de/event/kochen-mit-den-landfrauen-kl-3b/
LOCATION:Ansgarschule Twist\, Ansgarstraße 19\, Twist\, 49767\, Deutschland
END:VEVENT
BEGIN:VEVENT
DTSTART;TZID=Europe/Berlin:20241213T113000
DTEND;TZID=Europe/Berlin:20241213T120000
DTSTAMP:20260421T160648
CREATED:20240924T144629Z
LAST-MODIFIED:20241213T180803Z
UID:1602-1734089400-1734091200@ansgarschule.de
SUMMARY:Begrüßung MOORex (Naturparkschule)
DESCRIPTION:
URL:https://ansgarschule.de/event/kochen-mit-den-landfrauen-kl-3b-begruessung-moorex/
LOCATION:Ansgarschule Twist\, Ansgarstraße 19\, Twist\, 49767\, Deutschland
END:VEVENT
BEGIN:VEVENT
DTSTART;TZID=Europe/Berlin:20241220T103000
DTEND;TZID=Europe/Berlin:20241220T120000
DTSTAMP:20260421T160648
CREATED:20240809T172717Z
LAST-MODIFIED:20241213T180854Z
UID:1561-1734690600-1734696000@ansgarschule.de
SUMMARY:Winterforum (Musical Sterntaler) in der Kirche
DESCRIPTION:
URL:https://ansgarschule.de/event/winterforum-musical-in-der-kirche/
END:VEVENT
BEGIN:VEVENT
DTSTART;VALUE=DATE:20241221
DTEND;VALUE=DATE:20250106
DTSTAMP:20260421T160648
CREATED:20240809T172742Z
LAST-MODIFIED:20240809T172742Z
UID:1563-1734739200-1736121599@ansgarschule.de
SUMMARY:Weihnachtsferien
DESCRIPTION:
URL:https://ansgarschule.de/event/weihnachtsferien-4/
END:VEVENT
END:VCALENDAR